BEGIN:VCALENDAR
VERSION:2.0
PRODID:-//The Plunge - ECPv6.15.20//NONSGML v1.0//EN
CALSCALE:GREGORIAN
METHOD:PUBLISH
X-ORIGINAL-URL:https://plungesandiego.com
X-WR-CALDESC:Events for The Plunge
REFRESH-INTERVAL;VALUE=DURATION:PT1H
X-Robots-Tag:noindex
X-PUBLISHED-TTL:PT1H
BEGIN:VTIMEZONE
TZID:America/Los_Angeles
BEGIN:DAYLIGHT
TZOFFSETFROM:-0800
TZOFFSETTO:-0700
TZNAME:PDT
DTSTART:20250309T100000
END:DAYLIGHT
BEGIN:STANDARD
TZOFFSETFROM:-0700
TZOFFSETTO:-0800
TZNAME:PST
DTSTART:20251102T090000
END:STANDARD
BEGIN:DAYLIGHT
TZOFFSETFROM:-0800
TZOFFSETTO:-0700
TZNAME:PDT
DTSTART:20260308T100000
END:DAYLIGHT
BEGIN:STANDARD
TZOFFSETFROM:-0700
TZOFFSETTO:-0800
TZNAME:PST
DTSTART:20261101T090000
END:STANDARD
BEGIN:DAYLIGHT
TZOFFSETFROM:-0800
TZOFFSETTO:-0700
TZNAME:PDT
DTSTART:20270314T100000
END:DAYLIGHT
BEGIN:STANDARD
TZOFFSETFROM:-0700
TZOFFSETTO:-0800
TZNAME:PST
DTSTART:20271107T090000
END:STANDARD
END:VTIMEZONE
BEGIN:VEVENT
DTSTART;TZID=America/Los_Angeles:20260427T091500
DTEND;TZID=America/Los_Angeles:20260427T100000
DTSTAMP:20260424T090957
CREATED:20250530T114824Z
LAST-MODIFIED:20260107T000138Z
UID:10066826-1777281300-1777284000@plungesandiego.com
SUMMARY:Deep Water Aqua
DESCRIPTION:
URL:https://plungesandiego.com/event/deep-water-aqua/2026-04-27/
LOCATION:Plunge\, 3115 Ocean Front Walk\, San Diego\, CA\, 92108
END:VEVENT
BEGIN:VEVENT
DTSTART;TZID=America/Los_Angeles:20260428T091500
DTEND;TZID=America/Los_Angeles:20260428T100000
DTSTAMP:20260424T090957
CREATED:20250530T114824Z
LAST-MODIFIED:20260107T000138Z
UID:10066827-1777367700-1777370400@plungesandiego.com
SUMMARY:Deep Water Aqua
DESCRIPTION:
URL:https://plungesandiego.com/event/deep-water-aqua/2026-04-28/
LOCATION:Plunge\, 3115 Ocean Front Walk\, San Diego\, CA\, 92108
END:VEVENT
BEGIN:VEVENT
DTSTART;TZID=America/Los_Angeles:20260429T091500
DTEND;TZID=America/Los_Angeles:20260429T100000
DTSTAMP:20260424T090957
CREATED:20250530T114824Z
LAST-MODIFIED:20260107T000138Z
UID:10066828-1777454100-1777456800@plungesandiego.com
SUMMARY:Deep Water Aqua
DESCRIPTION:
URL:https://plungesandiego.com/event/deep-water-aqua/2026-04-29/
LOCATION:Plunge\, 3115 Ocean Front Walk\, San Diego\, CA\, 92108
END:VEVENT
BEGIN:VEVENT
DTSTART;TZID=America/Los_Angeles:20260430T091500
DTEND;TZID=America/Los_Angeles:20260430T100000
DTSTAMP:20260424T090957
CREATED:20250530T114824Z
LAST-MODIFIED:20260107T000138Z
UID:10066829-1777540500-1777543200@plungesandiego.com
SUMMARY:Deep Water Aqua
DESCRIPTION:
URL:https://plungesandiego.com/event/deep-water-aqua/2026-04-30/
LOCATION:Plunge\, 3115 Ocean Front Walk\, San Diego\, CA\, 92108
END:VEVENT
BEGIN:VEVENT
DTSTART;TZID=America/Los_Angeles:20260504T091500
DTEND;TZID=America/Los_Angeles:20260504T100000
DTSTAMP:20260424T090957
CREATED:20250530T114824Z
LAST-MODIFIED:20260107T000138Z
UID:10066830-1777886100-1777888800@plungesandiego.com
SUMMARY:Deep Water Aqua
DESCRIPTION:
URL:https://plungesandiego.com/event/deep-water-aqua/2026-05-04/
LOCATION:Plunge\, 3115 Ocean Front Walk\, San Diego\, CA\, 92108
END:VEVENT
BEGIN:VEVENT
DTSTART;TZID=America/Los_Angeles:20260505T091500
DTEND;TZID=America/Los_Angeles:20260505T100000
DTSTAMP:20260424T090957
CREATED:20250530T114824Z
LAST-MODIFIED:20260107T000138Z
UID:10066831-1777972500-1777975200@plungesandiego.com
SUMMARY:Deep Water Aqua
DESCRIPTION:
URL:https://plungesandiego.com/event/deep-water-aqua/2026-05-05/
LOCATION:Plunge\, 3115 Ocean Front Walk\, San Diego\, CA\, 92108
END:VEVENT
BEGIN:VEVENT
DTSTART;TZID=America/Los_Angeles:20260506T091500
DTEND;TZID=America/Los_Angeles:20260506T100000
DTSTAMP:20260424T090957
CREATED:20250530T114824Z
LAST-MODIFIED:20260107T000138Z
UID:10066832-1778058900-1778061600@plungesandiego.com
SUMMARY:Deep Water Aqua
DESCRIPTION:
URL:https://plungesandiego.com/event/deep-water-aqua/2026-05-06/
LOCATION:Plunge\, 3115 Ocean Front Walk\, San Diego\, CA\, 92108
END:VEVENT
BEGIN:VEVENT
DTSTART;TZID=America/Los_Angeles:20260507T091500
DTEND;TZID=America/Los_Angeles:20260507T100000
DTSTAMP:20260424T090957
CREATED:20250530T114824Z
LAST-MODIFIED:20260107T000138Z
UID:10066833-1778145300-1778148000@plungesandiego.com
SUMMARY:Deep Water Aqua
DESCRIPTION:
URL:https://plungesandiego.com/event/deep-water-aqua/2026-05-07/
LOCATION:Plunge\, 3115 Ocean Front Walk\, San Diego\, CA\, 92108
END:VEVENT
BEGIN:VEVENT
DTSTART;TZID=America/Los_Angeles:20260511T091500
DTEND;TZID=America/Los_Angeles:20260511T100000
DTSTAMP:20260424T090957
CREATED:20250530T114824Z
LAST-MODIFIED:20260107T000138Z
UID:10066834-1778490900-1778493600@plungesandiego.com
SUMMARY:Deep Water Aqua
DESCRIPTION:
URL:https://plungesandiego.com/event/deep-water-aqua/2026-05-11/
LOCATION:Plunge\, 3115 Ocean Front Walk\, San Diego\, CA\, 92108
END:VEVENT
BEGIN:VEVENT
DTSTART;TZID=America/Los_Angeles:20260512T091500
DTEND;TZID=America/Los_Angeles:20260512T100000
DTSTAMP:20260424T090957
CREATED:20250530T114824Z
LAST-MODIFIED:20260107T000138Z
UID:10066835-1778577300-1778580000@plungesandiego.com
SUMMARY:Deep Water Aqua
DESCRIPTION:
URL:https://plungesandiego.com/event/deep-water-aqua/2026-05-12/
LOCATION:Plunge\, 3115 Ocean Front Walk\, San Diego\, CA\, 92108
END:VEVENT
BEGIN:VEVENT
DTSTART;TZID=America/Los_Angeles:20260513T091500
DTEND;TZID=America/Los_Angeles:20260513T100000
DTSTAMP:20260424T090957
CREATED:20250530T114824Z
LAST-MODIFIED:20260107T000138Z
UID:10066836-1778663700-1778666400@plungesandiego.com
SUMMARY:Deep Water Aqua
DESCRIPTION:
URL:https://plungesandiego.com/event/deep-water-aqua/2026-05-13/
LOCATION:Plunge\, 3115 Ocean Front Walk\, San Diego\, CA\, 92108
END:VEVENT
BEGIN:VEVENT
DTSTART;TZID=America/Los_Angeles:20260514T091500
DTEND;TZID=America/Los_Angeles:20260514T100000
DTSTAMP:20260424T090957
CREATED:20250530T114824Z
LAST-MODIFIED:20260107T000138Z
UID:10066837-1778750100-1778752800@plungesandiego.com
SUMMARY:Deep Water Aqua
DESCRIPTION:
URL:https://plungesandiego.com/event/deep-water-aqua/2026-05-14/
LOCATION:Plunge\, 3115 Ocean Front Walk\, San Diego\, CA\, 92108
END:VEVENT
BEGIN:VEVENT
DTSTART;TZID=America/Los_Angeles:20260518T091500
DTEND;TZID=America/Los_Angeles:20260518T100000
DTSTAMP:20260424T090957
CREATED:20250530T114824Z
LAST-MODIFIED:20260107T000138Z
UID:10066838-1779095700-1779098400@plungesandiego.com
SUMMARY:Deep Water Aqua
DESCRIPTION:
URL:https://plungesandiego.com/event/deep-water-aqua/2026-05-18/
LOCATION:Plunge\, 3115 Ocean Front Walk\, San Diego\, CA\, 92108
END:VEVENT
BEGIN:VEVENT
DTSTART;TZID=America/Los_Angeles:20260519T091500
DTEND;TZID=America/Los_Angeles:20260519T100000
DTSTAMP:20260424T090957
CREATED:20250530T114824Z
LAST-MODIFIED:20260107T000138Z
UID:10066839-1779182100-1779184800@plungesandiego.com
SUMMARY:Deep Water Aqua
DESCRIPTION:
URL:https://plungesandiego.com/event/deep-water-aqua/2026-05-19/
LOCATION:Plunge\, 3115 Ocean Front Walk\, San Diego\, CA\, 92108
END:VEVENT
BEGIN:VEVENT
DTSTART;TZID=America/Los_Angeles:20260520T091500
DTEND;TZID=America/Los_Angeles:20260520T100000
DTSTAMP:20260424T090957
CREATED:20250530T114824Z
LAST-MODIFIED:20260107T000138Z
UID:10066840-1779268500-1779271200@plungesandiego.com
SUMMARY:Deep Water Aqua
DESCRIPTION:
URL:https://plungesandiego.com/event/deep-water-aqua/2026-05-20/
LOCATION:Plunge\, 3115 Ocean Front Walk\, San Diego\, CA\, 92108
END:VEVENT
BEGIN:VEVENT
DTSTART;TZID=America/Los_Angeles:20260521T091500
DTEND;TZID=America/Los_Angeles:20260521T100000
DTSTAMP:20260424T090957
CREATED:20250530T114824Z
LAST-MODIFIED:20260107T000138Z
UID:10066841-1779354900-1779357600@plungesandiego.com
SUMMARY:Deep Water Aqua
DESCRIPTION:
URL:https://plungesandiego.com/event/deep-water-aqua/2026-05-21/
LOCATION:Plunge\, 3115 Ocean Front Walk\, San Diego\, CA\, 92108
END:VEVENT
BEGIN:VEVENT
DTSTART;TZID=America/Los_Angeles:20260525T091500
DTEND;TZID=America/Los_Angeles:20260525T100000
DTSTAMP:20260424T090957
CREATED:20250530T114824Z
LAST-MODIFIED:20260107T000138Z
UID:10066842-1779700500-1779703200@plungesandiego.com
SUMMARY:Deep Water Aqua
DESCRIPTION:
URL:https://plungesandiego.com/event/deep-water-aqua/2026-05-25/
LOCATION:Plunge\, 3115 Ocean Front Walk\, San Diego\, CA\, 92108
END:VEVENT
BEGIN:VEVENT
DTSTART;TZID=America/Los_Angeles:20260526T091500
DTEND;TZID=America/Los_Angeles:20260526T100000
DTSTAMP:20260424T090957
CREATED:20250530T114824Z
LAST-MODIFIED:20260107T000138Z
UID:10066843-1779786900-1779789600@plungesandiego.com
SUMMARY:Deep Water Aqua
DESCRIPTION:
URL:https://plungesandiego.com/event/deep-water-aqua/2026-05-26/
LOCATION:Plunge\, 3115 Ocean Front Walk\, San Diego\, CA\, 92108
END:VEVENT
BEGIN:VEVENT
DTSTART;TZID=America/Los_Angeles:20260527T091500
DTEND;TZID=America/Los_Angeles:20260527T100000
DTSTAMP:20260424T090957
CREATED:20250530T114824Z
LAST-MODIFIED:20260107T000138Z
UID:10066844-1779873300-1779876000@plungesandiego.com
SUMMARY:Deep Water Aqua
DESCRIPTION:
URL:https://plungesandiego.com/event/deep-water-aqua/2026-05-27/
LOCATION:Plunge\, 3115 Ocean Front Walk\, San Diego\, CA\, 92108
END:VEVENT
BEGIN:VEVENT
DTSTART;TZID=America/Los_Angeles:20260528T091500
DTEND;TZID=America/Los_Angeles:20260528T100000
DTSTAMP:20260424T090957
CREATED:20250530T114824Z
LAST-MODIFIED:20260107T000138Z
UID:10066845-1779959700-1779962400@plungesandiego.com
SUMMARY:Deep Water Aqua
DESCRIPTION:
URL:https://plungesandiego.com/event/deep-water-aqua/2026-05-28/
LOCATION:Plunge\, 3115 Ocean Front Walk\, San Diego\, CA\, 92108
END:VEVENT
BEGIN:VEVENT
DTSTART;TZID=America/Los_Angeles:20260601T091500
DTEND;TZID=America/Los_Angeles:20260601T100000
DTSTAMP:20260424T090957
CREATED:20250530T114824Z
LAST-MODIFIED:20260107T000138Z
UID:10066846-1780305300-1780308000@plungesandiego.com
SUMMARY:Deep Water Aqua
DESCRIPTION:
URL:https://plungesandiego.com/event/deep-water-aqua/2026-06-01/
LOCATION:Plunge\, 3115 Ocean Front Walk\, San Diego\, CA\, 92108
END:VEVENT
BEGIN:VEVENT
DTSTART;TZID=America/Los_Angeles:20260602T091500
DTEND;TZID=America/Los_Angeles:20260602T100000
DTSTAMP:20260424T090957
CREATED:20250530T114824Z
LAST-MODIFIED:20260107T000138Z
UID:10066847-1780391700-1780394400@plungesandiego.com
SUMMARY:Deep Water Aqua
DESCRIPTION:
URL:https://plungesandiego.com/event/deep-water-aqua/2026-06-02/
LOCATION:Plunge\, 3115 Ocean Front Walk\, San Diego\, CA\, 92108
END:VEVENT
BEGIN:VEVENT
DTSTART;TZID=America/Los_Angeles:20260603T091500
DTEND;TZID=America/Los_Angeles:20260603T100000
DTSTAMP:20260424T090957
CREATED:20250530T114824Z
LAST-MODIFIED:20260107T000138Z
UID:10066848-1780478100-1780480800@plungesandiego.com
SUMMARY:Deep Water Aqua
DESCRIPTION:
URL:https://plungesandiego.com/event/deep-water-aqua/2026-06-03/
LOCATION:Plunge\, 3115 Ocean Front Walk\, San Diego\, CA\, 92108
END:VEVENT
BEGIN:VEVENT
DTSTART;TZID=America/Los_Angeles:20260604T091500
DTEND;TZID=America/Los_Angeles:20260604T100000
DTSTAMP:20260424T090957
CREATED:20250530T114824Z
LAST-MODIFIED:20260107T000138Z
UID:10066849-1780564500-1780567200@plungesandiego.com
SUMMARY:Deep Water Aqua
DESCRIPTION:
URL:https://plungesandiego.com/event/deep-water-aqua/2026-06-04/
LOCATION:Plunge\, 3115 Ocean Front Walk\, San Diego\, CA\, 92108
END:VEVENT
BEGIN:VEVENT
DTSTART;TZID=America/Los_Angeles:20260608T091500
DTEND;TZID=America/Los_Angeles:20260608T100000
DTSTAMP:20260424T090957
CREATED:20250530T114824Z
LAST-MODIFIED:20260107T000138Z
UID:10066850-1780910100-1780912800@plungesandiego.com
SUMMARY:Deep Water Aqua
DESCRIPTION:
URL:https://plungesandiego.com/event/deep-water-aqua/2026-06-08/
LOCATION:Plunge\, 3115 Ocean Front Walk\, San Diego\, CA\, 92108
END:VEVENT
BEGIN:VEVENT
DTSTART;TZID=America/Los_Angeles:20260609T091500
DTEND;TZID=America/Los_Angeles:20260609T100000
DTSTAMP:20260424T090957
CREATED:20250530T114824Z
LAST-MODIFIED:20260107T000138Z
UID:10066851-1780996500-1780999200@plungesandiego.com
SUMMARY:Deep Water Aqua
DESCRIPTION:
URL:https://plungesandiego.com/event/deep-water-aqua/2026-06-09/
LOCATION:Plunge\, 3115 Ocean Front Walk\, San Diego\, CA\, 92108
END:VEVENT
BEGIN:VEVENT
DTSTART;TZID=America/Los_Angeles:20260610T091500
DTEND;TZID=America/Los_Angeles:20260610T100000
DTSTAMP:20260424T090957
CREATED:20250530T114824Z
LAST-MODIFIED:20260107T000138Z
UID:10066852-1781082900-1781085600@plungesandiego.com
SUMMARY:Deep Water Aqua
DESCRIPTION:
URL:https://plungesandiego.com/event/deep-water-aqua/2026-06-10/
LOCATION:Plunge\, 3115 Ocean Front Walk\, San Diego\, CA\, 92108
END:VEVENT
BEGIN:VEVENT
DTSTART;TZID=America/Los_Angeles:20260611T091500
DTEND;TZID=America/Los_Angeles:20260611T100000
DTSTAMP:20260424T090957
CREATED:20250530T114824Z
LAST-MODIFIED:20260107T000138Z
UID:10066853-1781169300-1781172000@plungesandiego.com
SUMMARY:Deep Water Aqua
DESCRIPTION:
URL:https://plungesandiego.com/event/deep-water-aqua/2026-06-11/
LOCATION:Plunge\, 3115 Ocean Front Walk\, San Diego\, CA\, 92108
END:VEVENT
BEGIN:VEVENT
DTSTART;TZID=America/Los_Angeles:20260615T091500
DTEND;TZID=America/Los_Angeles:20260615T100000
DTSTAMP:20260424T090957
CREATED:20250530T114824Z
LAST-MODIFIED:20260107T000138Z
UID:10066854-1781514900-1781517600@plungesandiego.com
SUMMARY:Deep Water Aqua
DESCRIPTION:
URL:https://plungesandiego.com/event/deep-water-aqua/2026-06-15/
LOCATION:Plunge\, 3115 Ocean Front Walk\, San Diego\, CA\, 92108
END:VEVENT
BEGIN:VEVENT
DTSTART;TZID=America/Los_Angeles:20260616T091500
DTEND;TZID=America/Los_Angeles:20260616T100000
DTSTAMP:20260424T090957
CREATED:20250530T114824Z
LAST-MODIFIED:20260107T000138Z
UID:10066855-1781601300-1781604000@plungesandiego.com
SUMMARY:Deep Water Aqua
DESCRIPTION:
URL:https://plungesandiego.com/event/deep-water-aqua/2026-06-16/
LOCATION:Plunge\, 3115 Ocean Front Walk\, San Diego\, CA\, 92108
END:VEVENT
END:VCALENDAR