BEGIN:VCALENDAR
VERSION:2.0
PRODID:-//The Plunge - ECPv6.15.20//NONSGML v1.0//EN
CALSCALE:GREGORIAN
METHOD:PUBLISH
X-WR-CALNAME:The Plunge
X-ORIGINAL-URL:https://plungesandiego.com
X-WR-CALDESC:Events for The Plunge
REFRESH-INTERVAL;VALUE=DURATION:PT1H
X-Robots-Tag:noindex
X-PUBLISHED-TTL:PT1H
BEGIN:VTIMEZONE
TZID:America/Los_Angeles
BEGIN:DAYLIGHT
TZOFFSETFROM:-0800
TZOFFSETTO:-0700
TZNAME:PDT
DTSTART:20240310T100000
END:DAYLIGHT
BEGIN:STANDARD
TZOFFSETFROM:-0700
TZOFFSETTO:-0800
TZNAME:PST
DTSTART:20241103T090000
END:STANDARD
BEGIN:DAYLIGHT
TZOFFSETFROM:-0800
TZOFFSETTO:-0700
TZNAME:PDT
DTSTART:20250309T100000
END:DAYLIGHT
BEGIN:STANDARD
TZOFFSETFROM:-0700
TZOFFSETTO:-0800
TZNAME:PST
DTSTART:20251102T090000
END:STANDARD
BEGIN:DAYLIGHT
TZOFFSETFROM:-0800
TZOFFSETTO:-0700
TZNAME:PDT
DTSTART:20260308T100000
END:DAYLIGHT
BEGIN:STANDARD
TZOFFSETFROM:-0700
TZOFFSETTO:-0800
TZNAME:PST
DTSTART:20261101T090000
END:STANDARD
END:VTIMEZONE
BEGIN:VEVENT
DTSTART;TZID=America/Los_Angeles:20251205T060000
DTEND;TZID=America/Los_Angeles:20251205T070000
DTSTAMP:20260419T045659
CREATED:20250530T114131Z
LAST-MODIFIED:20260106T235813Z
UID:10062320-1764914400-1764918000@plungesandiego.com
SUMMARY:Plunge Masters
DESCRIPTION:The Plunge Masters Swim program provides adult swimmers of all levels with structured swim sets and regular coaching to improve stroke technique.
URL:https://plungesandiego.com/event/plunge-masters/2025-12-05/
LOCATION:Plunge\, 3115 Ocean Front Walk\, San Diego\, CA\, 92108
END:VEVENT
BEGIN:VEVENT
DTSTART;TZID=America/Los_Angeles:20251205T070000
DTEND;TZID=America/Los_Angeles:20251205T130000
DTSTAMP:20260419T045659
CREATED:20251201T202658Z
LAST-MODIFIED:20251201T202658Z
UID:10072360-1764918000-1764939600@plungesandiego.com
SUMMARY:Adjusted Hours: Open 7am-1pm
DESCRIPTION:
URL:https://plungesandiego.com/event/adjusted-hours-open-7am-1pm/
END:VEVENT
BEGIN:VEVENT
DTSTART;TZID=America/Los_Angeles:20251205T090000
DTEND;TZID=America/Los_Angeles:20251205T130000
DTSTAMP:20260419T045659
CREATED:20251201T202615Z
LAST-MODIFIED:20251201T202615Z
UID:10072359-1764925200-1764939600@plungesandiego.com
SUMMARY:Obstacle Course Open
DESCRIPTION:
URL:https://plungesandiego.com/event/obstacle-course-open-11/
END:VEVENT
END:VCALENDAR